Workbook
Name Arbeit: 'Berechnung SLP'!$C$6
Name Arbeit: 'Berechung RLM'!$C$6
Name bm: 'Berechung RLM'!$C$8
Name hallo: Ergebnisse!$A$4
Name Leistung: 'Berechnung SLP'!A1
Name Leistung: 'Berechung RLM'!$C$8

Sheet Berechung RLM
B1: Berechnung der RLM Netzentgelte ab 01.01.2027
B2: inkl. vorgelagertes Netz
B3: exkl. MwSt.
C4: Eingabefelder
B6: Arbeit
B8: Leistung
B10: Benutzungsstunden | C10: =IF(Leistung="","",IF(Arbeit/Leistung>8760,"Unplausibler Wert",IF(Leistung>0,Arbeit/Leistung,"")))
B12: Berechnung Netzentgelt für das Gasverteilnetz der Netze BW GmbH:
B14: Vorzonenpreis (VPW) Arbeit | C14: =+VLOOKUP(Arbeit,Preisblatt!B7:F14,3,1) -> 0
B16: Durch VPW abgegoltene Arbeit | C16: =+VLOOKUP(Arbeit,Preisblatt!B7:F14,4,1) -> 0
B18: spez. Arbeitspreis der nicht abgegoltenen Arbeit | C18: =IF(Arbeit="",0,+VLOOKUP(Arbeit,Preisblatt!B7:F14,5,1)) -> 0
B20: Arbeitspreis der nicht abgegoltenen Arbeit | C20: =+C18/100*(C6-C16) -> 0
B22: Summe Arbeitspreis | C22: =C20+C14 -> 0
B24: Vorzonenpreis (VPP) Leistung | C24: =+VLOOKUP(bm,Preisblatt!B21:F30,3,1) -> 0
B26: Durch VPP abgegoltene Leistung | C26: =+VLOOKUP(bm,Preisblatt!B21:F30,4,1) -> 0
B28: spez. Leistungspreis der nicht abgegoltenen Leistung | C28: =IF(Leistung=0,0,+VLOOKUP(bm,Preisblatt!B21:F30,5,1)) -> 0
B30: Leistungspreis der nicht abgegoltenen Leistung | C30: =+C28*(C8-C26) -> 0
B32: Summe Leistungspreis | C32: =C30+C24 -> 0
B34: Netzentgelt Summe | C34: =C32+C22 -> 0
B36: spezifisches Entgelt (zur Info) | C36: =IF(Arbeit>0,C34/Arbeit*100,"")
B39: Messung | C39: Messstellenbetrieb | D39: bitte "X" | E39: Messen | F39: bitte "X"
B41: Zählergruppe G10 - G25 | C41: 49 | E41: 311.5 | H41: =(IF(D41<>"",C41,0)+(IF(F41<>0,E41))) -> 0
B42: Zählergruppe G40 - G100 | C42: 244 | E42: 311.5 | H42: =(IF(D42<>"",C42,0)+(IF(F42<>0,E42))) -> 0
B43: Zählergruppe G160 - G250 | C43: 829 | E43: 311.5 | H43: =(IF(D43<>"",C43,0)+(IF(F43<>0,E43))) -> 0
B44: Zählergruppe G400 - G650 | C44: 949 | E44: 311.5 | H44: =(IF(D44<>"",C44,0)+(IF(F44<>0,E44))) -> 0
B45: Zählergruppe > G650 | C45: 1130 | E45: 311.5 | H45: =(IF(D45<>"",C45,0)+(IF(F45<>0,E45))) -> 0
H46: =SUM(H41:H45) -> 0
B47: Zusatzgeräte
B48: Messwertregistriergerät (MRG) | C48: 385 | H48: =IF(D48<>"",C48,0) -> 0
B49: Mengenumwerter Kombigerät (inkl. MRG-Funktionalität) | C49: 950 | H49: =IF(D49<>"",C49,0) -> 0
H50: =SUM(H48:H49) -> 0
B51: Netzentgelte gesamt inklusive Messung
B53: Arbeitspreis | C53: =C22 -> 0
B55: Leistungspreis | C55: =C32 -> 0
B57: Netzentgelt Summe | C57: =C34 -> 0
B59: Messung und Zusatzgeräte | C59: =H46+H50 -> 0
B61: Endsumme | C61: =C57+C59 -> 0
B63: zur Information:
B64: Konzessionsabgabe für nicht grundversorgte Entnahmestellen: | C64: =IF(Arbeit<5000000,Arbeit*0.03/100,0) -> 0

Sheet Berechnung SLP
B1: Berechnung der SLP Netzentgelte ab 01.01.2027
B2: inkl. vorgelagertes Netz
B3: exkl. MwSt.
C4: Eingabefelder
B6: Arbeit
B8: Ø Bh aller SLP- Kunden | C8: 2000
B10: Vorhalteleistung bei SLP- Kunden | C10: =Arbeit/C8 -> 0
B12: Berechnung Netzentgelt für das Gasverteilnetz der Netze BW GmbH:
B14: Vorzonenpreis (VP) | C14: =+VLOOKUP(Arbeit,Preisblatt!I7:M13,3,1) -> 0
B16: Im VP abgegoltene Jahresarbeit | C16: =+VLOOKUP(Arbeit,Preisblatt!I7:M13,4,1) -> 0
B18: spez. Arbeitspreis für die Restmenge | C18: =IF(Arbeit=0,0,+VLOOKUP(Arbeit,Preisblatt!I7:M13,5,1)) -> 0
B20: Arbeitspreis für die Restmenge | C20: =+C18/100*(C6-C16) -> 0
B22: Netzentgelt Summe | C22: =C20+C14 -> 0
B24: spezifisches Entgelt | C24: =IF(C10>0,C22/Arbeit*100,"")
B27: Messung | C27: Messstellenbetrieb | D27: bitte "X" | E27: Messen | F27: bitte "X"
B29: Zählergruppe G4 - G6 | C29: 25.2 | E29: 5.7 | I29: =(IF(D29<>"",C29,0)+(IF(F29<>0,E29))) -> 0
B30: Zählergruppe G10 - G25 | C30: 49 | E30: 5.7 | I30: =(IF(D30<>"",C30,0)+(IF(F30<>0,E30))) -> 0
B31: Zählergruppe G40 - G100 | C31: 244 | E31: 5.7 | I31: =(IF(D31<>"",C31,0)+(IF(F31<>0,E31))) -> 0
B32: Zählergruppe G160 - G250 | C32: 829 | E32: 5.7 | I32: =(IF(D32<>"",C32,0)+(IF(F32<>0,E32))) -> 0
I33: =SUM(I29:I32) -> 0
B35: Netzentgelte gesamt inklusive Messung
B37: Netzentgelt Summe | C37: =C22 -> 0
B39: Messung | C39: =I33 -> 0
B41: Endsumme | C41: =C37+C39 -> 0
B43: zur Information:
B44: Konzessionsabgabe für nicht grundversorgte Entnahmestellen: | C44: =IF(Arbeit<5000000,Arbeit*0.03/100,0) -> 0
B46: Hinweis:
B47: Sofern zusätzlich ein Messwertregistriergerät oder Mengenumwerter gewünscht wird, ermittlen Sie die Preise für Messung gem. dem Tabellenblatt "Berechnung RLM".

Sheet Preisblatt
A2: RLM-Kunden Arbeit | H2: SLP-Kunden
A4: Zone | B4: Jahresarbeit | D4: Vorzonenpreis | E4: Im Vorzonenpreis abgegoltene Jahresarbeit | F4: Arbeitspreis für die Restmenge | H4: Zone | I4: Jahresarbeit | K4: Vorzonenpreis | L4: Im Vorzonenpreis abgegoltene Jahresarbeit | M4: Arbeitspreis für die Restmenge
B5: (M) | D5: (SP) | E5: (M1) | F5: (AP) | I5: (M) | K5: (ZP) | L5: (M1) | M5: (AP)
A6: i | B6: von kWh | C6: bis kWh | D6: €/a | E6: kWh | F6: ct/kWh | H6: i | I6: von kWh | J6: bis kWh | K6: €/a | L6: kWh | M6: ct/kWh
A7: AP1 | B7: 0 | C7: 1750000 | D7: 0 | E7: 0 | F7: 0.5577 | H7: SLP1 | I7: 0 | J7: 10000 | K7: 0 | L7: 0 | M7: 3.0505
A8: AP2 | B8: 1750000 | C8: 2000000 | D8: 9759.75 | E8: 1750000 | F8: 0.5007 | H8: SLP2 | I8: 10000 | J8: 20000 | K8: 305.05 | L8: 10000 | M8: 3.0477
A9: AP3 | B9: 2000000 | C9: 3000000 | D9: 11011.5 | E9: 2000000 | F9: 0.474 | H9: SLP3 | I9: 20000 | J9: 100000 | K9: 609.82 | L9: 20000 | M9: 3.0326
A10: AP4 | B10: 3000000 | C10: 5000000 | D10: 15751.5 | E10: 3000000 | F10: 0.4235 | H10: SLP4 | I10: 100000 | J10: 250000 | K10: 3035.9 | L10: 100000 | M10: 2.994
A11: AP5 | B11: 5000000 | C11: 7500000 | D11: 24221.5 | E11: 5000000 | F11: 0.3703 | H11: SLP5 | I11: 250000 | J11: 500000 | K11: 7526.9 | L11: 250000 | M11: 2.9275
A12: AP6 | B12: 7500000 | C12: 15000000 | D12: 33479 | E12: 7500000 | F12: 0.3051 | H12: SLP6 | I12: 500000 | J12: 1000000 | K12: 14845.65 | L12: 500000 | M12: 2.8103
A13: AP7 | B13: 15000000 | C13: 30000000 | D13: 56361.5 | E13: 15000000 | F13: 0.244 | H13: SLP7 | I13: 1000000 | K13: 28897.15 | L13: 1000000 | M13: 2.67
A14: AP8 | B14: 30000000 | D14: 92961.5 | E14: 30000000 | F14: 0.1845
A16: RLM-Kunden Leistung
A18: Zone | B18: Jahresleistung | D18: Vorzonenpreis | E18: Im Vorzonenpreis abgegoltene Jahresleistung | F18: Leistungspreis für die Restleistung
B19: (M) | D19: (SP) | E19: (P1) | F19: (LP)
A20: i | B20: von kW | C20: bis kW | D20: €/a | E20: kW | F20: €/kW
A21: LP1 | B21: 0 | C21: 750 | D21: 0 | E21: 0 | F21: 38.71
A22: LP2 | B22: 750 | C22: 1500 | D22: 29032.5 | E22: 750 | F22: 34.281
A23: LP3 | B23: 1500 | C23: 3000 | D23: 54743.25 | E23: 1500 | F23: 30.109
A24: LP4 | B24: 3000 | C24: 5000 | D24: 99906.75 | E24: 3000 | F24: 26.613
A25: LP5 | B25: 5000 | C25: 7500 | D25: 153132.75 | E25: 5000 | F25: 24.517
A26: LP6 | B26: 7500 | C26: 10000 | D26: 214425.25 | E26: 7500 | F26: 23.417
A27: LP7 | B27: 10000 | C27: 15000 | D27: 272967.75 | E27: 10000 | F27: 22.698
A28: LP8 | B28: 15000 | C28: 25000 | D28: 386457.75 | E28: 15000 | F28: 22.199
A29: LP9 | B29: 25000 | C29: 75000 | D29: 608447.75 | E29: 25000 | F29: 21.945
A30: LP10 | B30: 75000 | D30: 1705697.8 | E30: 75000 | F30: 21.927

Sheet Ergebnisse
A1: Übersicht Netzentgelte Netze BW GmbH
A4: Netzentgelte für RLM-Kunden:
A6: angegebene Arbeit | C6: =Arbeit -> 0
A8: angegebene Leistung | C8: =Leistung -> 0
A10: Netzentgelt Summe | C10: ='Berechung RLM'!C57 -> 0
A12: Messung | C12: ='Berechung RLM'!C59 -> 0
A14: Endsumme | C14: =SUM(C10,C12) -> 0
A17: Netzentgelte für SLP-Kunden:
A19: angegebene Arbeit | C19: ='Berechnung SLP'!Arbeit -> 0
A21: Anhaltswert Leistung | C21: ='Berechnung SLP'!C10 -> 0
A23: Netzentgelt Summe | C23: ='Berechnung SLP'!C37 -> 0
A25: Messung | C25: ='Berechnung SLP'!C39 -> 0
A27: Endsumme | C27: =SUM(C23,C25) -> 0
A30: exkl. MwSt.
